BEGIN:VCALENDAR
VERSION:2.0
PRODID:-//Mission San Rafael Rotary - ECPv6.15.12.2//NONSGML v1.0//EN
CALSCALE:GREGORIAN
METHOD:PUBLISH
X-WR-CALNAME:Mission San Rafael Rotary
X-ORIGINAL-URL:https://missionsanrafaelrotary.org
X-WR-CALDESC:Events for Mission San Rafael Rotary
REFRESH-INTERVAL;VALUE=DURATION:PT1H
X-Robots-Tag:noindex
X-PUBLISHED-TTL:PT1H
BEGIN:VTIMEZONE
TZID:UTC
BEGIN:STANDARD
TZOFFSETFROM:+0000
TZOFFSETTO:+0000
TZNAME:UTC
DTSTART:20230101T000000
END:STANDARD
END:VTIMEZONE
BEGIN:VEVENT
DTSTART;TZID=UTC:20260219T120000
DTEND;TZID=UTC:20260219T133000
DTSTAMP:20260422T144512
CREATED:20260205T185554Z
LAST-MODIFIED:20260205T185616Z
UID:362-1771502400-1771507800@missionsanrafaelrotary.org
SUMMARY:MSRR Weekly Meeting – March 19\, 2026
DESCRIPTION:Join us for our weekly lunch meeting at San Rafael Joe’s on 4th Street! We gather on the first three Thursdays of each month. \n\n\nThis week’s featured speaker: JONATHAN FRIEMAN …. Local San Rafael businessman speaking about “Service and Healing” \nWe look forward to seeing you there!
URL:https://missionsanrafaelrotary.org/event/msrr-weekly-meeting-march-19-2026-2/
LOCATION:San Rafael Joe’s\, 931 4th St\, San Rafael\, CA\, 94901\, United States
END:VEVENT
BEGIN:VEVENT
DTSTART;TZID=UTC:20260212T120000
DTEND;TZID=UTC:20260212T133000
DTSTAMP:20260422T144512
CREATED:20260205T185336Z
LAST-MODIFIED:20260205T185336Z
UID:361-1770897600-1770903000@missionsanrafaelrotary.org
SUMMARY:MSRR Weekly Meeting – March 12\, 2026
DESCRIPTION:Join us for our weekly lunch meeting at San Rafael Joe’s on 4th Street! We gather on the first three Thursdays of each month. \n\n\nThis week’s featured speaker: HEATHER KORNBERG …. Sharing her Rotary Journey \n\n\n  \nWe look forward to seeing you there!
URL:https://missionsanrafaelrotary.org/event/msrr-weekly-meeting-march-12-2026-2/
LOCATION:San Rafael Joe’s\, 931 4th St\, San Rafael\, CA\, 94901\, United States
END:VEVENT
BEGIN:VEVENT
DTSTART;TZID=UTC:20260205T120000
DTEND;TZID=UTC:20260205T133000
DTSTAMP:20260422T144512
CREATED:20260205T184555Z
LAST-MODIFIED:20260205T185039Z
UID:359-1770292800-1770298200@missionsanrafaelrotary.org
SUMMARY:MSRR Weekly Meeting – February 5\, 2026
DESCRIPTION:Join us for our weekly lunch meeting at San Rafael Joe’s on 4th Street! We gather on the first three Thursdays of each month. \n\n\nThis week’s featured speaker: DAVE ALBEE …. “The Last One Out of Town Turn Out the Lights” \n (https://thelastoneoutoftown.com) \n\n  \nWe look forward to seeing you there!
URL:https://missionsanrafaelrotary.org/event/msrr-weekly-meeting-february-5-2026/
LOCATION:San Rafael Joe’s\, 931 4th St\, San Rafael\, CA\, 94901\, United States
END:VEVENT
BEGIN:VEVENT
DTSTART;TZID=UTC:20250908T180000
DTEND;TZID=UTC:20250908T203000
DTSTAMP:20260422T144512
CREATED:20250828T173441Z
LAST-MODIFIED:20250828T173441Z
UID:313-1757354400-1757363400@missionsanrafaelrotary.org
SUMMARY:
DESCRIPTION:2025 Full Moon Sunset Cruise \nAhoy! Come Join Us! \nMonday\, September 8 • 6:30-8:30 PM \nFun and Friendship Social hosted by Mission San Rafael Rotary \nEnjoy and be awed with unique views from the water\, including the breathtaking sights of Tiburon\, Belvedere\, Sausalito\, San Francisco\, the Golden Gate Bridge\, Angel Island\, and the surrounding areas. Pack a picnic dinner and dine on The Bay with fellow Rotarians\,  family and friends. This is a private ferry chartered exclusively for our group. Weather on the bay can be chilly so pack your jackets! Departs from the Tiburon Ferry Terminal at 6:15. Arrive no later than 6:00 pm. \nAdults: $50; Children (15 and under): $25 \nNote: A donation to Zeffy is purely voluntary
URL:https://missionsanrafaelrotary.org/event/313/
LOCATION:21 Main St. Belvedere Tiburon\, 21 Main St\, Belvedere Tiburon\, CA\, United States
END:VEVENT
BEGIN:VEVENT
DTSTART;TZID=UTC:20250206T120000
DTEND;TZID=UTC:20250206T133000
DTSTAMP:20260422T144512
CREATED:20250204T011959Z
LAST-MODIFIED:20250204T012246Z
UID:282-1738843200-1738848600@missionsanrafaelrotary.org
SUMMARY:MSRR Weekly Meeting - February 6\, 2025
DESCRIPTION:Join us for our weekly lunch meeting at San Rafael Joe’s on 4th Street! We gather on the first three Thursdays of each month from 12:00 to 1:30 PM. \nThis week’s featured speaker: Tom O’Neil from the Marin History Museum. \nWe look forward to seeing you there!
URL:https://missionsanrafaelrotary.org/event/msrr-weekly-meeting-february-6-2025/
LOCATION:San Rafael Joe’s\, 931 4th St\, San Rafael\, CA\, 94901\, United States
END:VEVENT
BEGIN:VEVENT
DTSTART;TZID=UTC:20240307T120000
DTEND;TZID=UTC:20240307T133000
DTSTAMP:20260422T144512
CREATED:20240216T180637Z
LAST-MODIFIED:20240216T181012Z
UID:265-1709812800-1709818200@missionsanrafaelrotary.org
SUMMARY:Club Meeting
DESCRIPTION:We warmly invite all members and interested guests to our upcoming weekly meeting. As part of our commitment to fostering community service\, professional development\, and fellowship among members\, this week’s gathering promises to be both enriching and inspiring.
URL:https://missionsanrafaelrotary.org/event/club-meeting/
LOCATION:San Rafael Joe’s\, 931 4th St\, San Rafael\, CA\, 94901\, United States
CATEGORIES:Club Meetings
END:VEVENT
END:VCALENDAR